BEGIN:VCALENDAR
VERSION:2.0
PRODID:-//Sunrise Beach Village Texas - ECPv6.15.20//NONSGML v1.0//EN
CALSCALE:GREGORIAN
METHOD:PUBLISH
X-WR-CALNAME:Sunrise Beach Village Texas
X-ORIGINAL-URL:https://sunrisebeachtx.gov
X-WR-CALDESC:Events for Sunrise Beach Village Texas
REFRESH-INTERVAL;VALUE=DURATION:PT1H
X-Robots-Tag:noindex
X-PUBLISHED-TTL:PT1H
BEGIN:VTIMEZONE
TZID:America/Chicago
BEGIN:DAYLIGHT
TZOFFSETFROM:-0600
TZOFFSETTO:-0500
TZNAME:CDT
DTSTART:20250309T080000
END:DAYLIGHT
BEGIN:STANDARD
TZOFFSETFROM:-0500
TZOFFSETTO:-0600
TZNAME:CST
DTSTART:20251102T070000
END:STANDARD
BEGIN:DAYLIGHT
TZOFFSETFROM:-0600
TZOFFSETTO:-0500
TZNAME:CDT
DTSTART:20260308T080000
END:DAYLIGHT
BEGIN:STANDARD
TZOFFSETFROM:-0500
TZOFFSETTO:-0600
TZNAME:CST
DTSTART:20261101T070000
END:STANDARD
BEGIN:DAYLIGHT
TZOFFSETFROM:-0600
TZOFFSETTO:-0500
TZNAME:CDT
DTSTART:20270314T080000
END:DAYLIGHT
BEGIN:STANDARD
TZOFFSETFROM:-0500
TZOFFSETTO:-0600
TZNAME:CST
DTSTART:20271107T070000
END:STANDARD
END:VTIMEZONE
BEGIN:VEVENT
DTSTART;TZID=America/Chicago:20260416T133000
DTEND;TZID=America/Chicago:20260416T133000
DTSTAMP:20260425T092947
CREATED:20260130T211748Z
LAST-MODIFIED:20260130T211931Z
UID:10012090-1776346200-1776346200@sunrisebeachtx.gov
SUMMARY:STATED CITY COUNCIL MEETING
DESCRIPTION:
URL:https://sunrisebeachtx.gov/?tribe_events=stated-city-council-meeting&eventDate=2026-04-16
LOCATION:Civic Center
CATEGORIES:City Council
END:VEVENT
BEGIN:VEVENT
DTSTART;TZID=America/Chicago:20260417T080000
DTEND;TZID=America/Chicago:20260417T100000
DTSTAMP:20260425T092947
CREATED:20260223T215901Z
LAST-MODIFIED:20260424T195642Z
UID:10012306-1776412800-1776420000@sunrisebeachtx.gov
SUMMARY:Fitness Class 8 am & 9 am
DESCRIPTION:
URL:https://sunrisebeachtx.gov/?tribe_events=fitness-class-8-am-9-am&eventDate=2026-04-17
LOCATION:Civic Center
CATEGORIES:PRIVATE EVENT
END:VEVENT
BEGIN:VEVENT
DTSTART;TZID=America/Chicago:20260420T083000
DTEND;TZID=America/Chicago:20260420T083000
DTSTAMP:20260425T092947
CREATED:20260223T210723Z
LAST-MODIFIED:20260424T192554Z
UID:10012178-1776673800-1776673800@sunrisebeachtx.gov
SUMMARY:Fitness Class Mondays 8:30 am
DESCRIPTION:
URL:https://sunrisebeachtx.gov/?tribe_events=fitness-class-830-am&eventDate=2026-04-20
LOCATION:Civic Center
CATEGORIES:PRIVATE EVENT
END:VEVENT
BEGIN:VEVENT
DTSTART;TZID=America/Chicago:20260420T130000
DTEND;TZID=America/Chicago:20260420T130000
DTSTAMP:20260425T092947
CREATED:20260224T153100Z
LAST-MODIFIED:20260224T153100Z
UID:10012343-1776690000-1776690000@sunrisebeachtx.gov
SUMMARY:ESD MEETING
DESCRIPTION:
URL:https://sunrisebeachtx.gov/?tribe_events=esd-meeting&eventDate=2026-04-20
LOCATION:Sunrise Beach Civic Center
CATEGORIES:ESD
ATTACH;FMTTYPE=image/png:https://sunrisebeachtx.gov/wp-content/uploads/2024/05/Llano-County-ESD-5.png
END:VEVENT
BEGIN:VEVENT
DTSTART;TZID=America/Chicago:20260422T083000
DTEND;TZID=America/Chicago:20260422T083000
DTSTAMP:20260425T092947
CREATED:20260223T213252Z
LAST-MODIFIED:20260227T204642Z
UID:10012264-1776846600-1776846600@sunrisebeachtx.gov
SUMMARY:Fitness Class 8:30 am
DESCRIPTION:
URL:https://sunrisebeachtx.gov/?tribe_events=fitness-class-830-am-2&eventDate=2026-04-22
LOCATION:Civic Center
CATEGORIES:PRIVATE EVENT
END:VEVENT
BEGIN:VEVENT
DTSTART;TZID=America/Chicago:20260422T100000
DTEND;TZID=America/Chicago:20260422T100000
DTSTAMP:20260425T092947
CREATED:20260223T191321Z
LAST-MODIFIED:20260424T195804Z
UID:10012464-1776852000-1776852000@sunrisebeachtx.gov
SUMMARY:P&Z Meeting
DESCRIPTION:
URL:https://sunrisebeachtx.gov/?tribe_events=pz-meeting&eventDate=2026-04-22
LOCATION:Civic Center
CATEGORIES:Planning & Zoning
ATTACH;FMTTYPE=image/png:https://sunrisebeachtx.gov/wp-content/uploads/2023/12/canva-Logo.png
END:VEVENT
BEGIN:VEVENT
DTSTART;VALUE=DATE:20260424
DTEND;VALUE=DATE:20260425
DTSTAMP:20260425T092947
CREATED:20260424T200120Z
LAST-MODIFIED:20260424T200120Z
UID:10012465-1776988800-1777075199@sunrisebeachtx.gov
SUMMARY:AUTO-FEST
DESCRIPTION:
URL:https://sunrisebeachtx.gov/?tribe_events=auto-fest
LOCATION:McNair Park\, 211 Park Road\, Sunrise Beach\, TX\, 78643\, United States
ORGANIZER;CN="CCAA":MAILTO:ccaasunrisebeach@gmail.com
END:VEVENT
BEGIN:VEVENT
DTSTART;TZID=America/Chicago:20260424T080000
DTEND;TZID=America/Chicago:20260424T100000
DTSTAMP:20260425T092947
CREATED:20260223T215901Z
LAST-MODIFIED:20260424T195642Z
UID:10012307-1777017600-1777024800@sunrisebeachtx.gov
SUMMARY:Fitness Class 8 am & 9 am
DESCRIPTION:
URL:https://sunrisebeachtx.gov/?tribe_events=fitness-class-8-am-9-am&eventDate=2026-04-24
LOCATION:Civic Center
CATEGORIES:PRIVATE EVENT
END:VEVENT
BEGIN:VEVENT
DTSTART;TZID=America/Chicago:20260427T083000
DTEND;TZID=America/Chicago:20260427T083000
DTSTAMP:20260425T092947
CREATED:20260223T210723Z
LAST-MODIFIED:20260424T192554Z
UID:10012179-1777278600-1777278600@sunrisebeachtx.gov
SUMMARY:Fitness Class Mondays 8:30 am
DESCRIPTION:
URL:https://sunrisebeachtx.gov/?tribe_events=fitness-class-830-am&eventDate=2026-04-27
LOCATION:Civic Center
CATEGORIES:PRIVATE EVENT
END:VEVENT
BEGIN:VEVENT
DTSTART;TZID=America/Chicago:20260429T083000
DTEND;TZID=America/Chicago:20260429T083000
DTSTAMP:20260425T092947
CREATED:20260424T164959Z
LAST-MODIFIED:20260424T192332Z
UID:10012265-1777451400-1777451400@sunrisebeachtx.gov
SUMMARY:Fitness Class Weds. 8:30 am
DESCRIPTION:
URL:https://sunrisebeachtx.gov/?tribe_events=fitness-class-830-am-2-2&eventDate=2026-04-29
LOCATION:Civic Center
CATEGORIES:PRIVATE EVENT
END:VEVENT
END:VCALENDAR